BEGIN:VCALENDAR
PRODID:-//DPSS//Calendar//EN
CALSCALE:GREGORIAN
BEGIN:VEVENT
DTSTAMP:20260423T043322Z
DTSTART:20260315T110000
DTEND:20260315T150000
SUMMARY:Wat Thai del mercado de alimentos de Los Ángeles
LOCATION:8225 Coldwater Cyn Ave.\, N. Hollywood\, CA 91605
END:VEVENT
END:VCALENDAR
