BEGIN:VCALENDAR
PRODID:-//DPSS//Calendar//EN
CALSCALE:GREGORIAN
BEGIN:VEVENT
DTSTAMP:20260421T054407Z
DTSTART:20260314T090000
DTEND:20260314T110000
SUMMARY:6th Feria Anual del Bienestar
LOCATION:1845 N. Soto Street Los Angeles\, CA 90032
END:VEVENT
END:VCALENDAR
