BEGIN:VCALENDAR
PRODID:-//DPSS//Calendar//EN
CALSCALE:GREGORIAN
BEGIN:VEVENT
DTSTAMP:20260421T155345Z
DTSTART:20260312T083000
DTEND:20260312T140000
SUMMARY:Orientación de la Red de Innovación Laboral de Long Beach
LOCATION:4811 Airport Plaza Dr.\, Long Beach\, CA 90815
END:VEVENT
END:VCALENDAR
