BEGIN:VCALENDAR
PRODID:-//DPSS//Calendar//EN
CALSCALE:GREGORIAN
BEGIN:VEVENT
DTSTAMP:20260419T222340Z
DTSTART:20260310T083000
DTEND:20260310T140000
SUMMARY:Orientación de la Red de Innovación Laboral de Long Beach (LBWIN)
 
LOCATION:4811 Airport Plaza Dr.\, Long Beach\, CA 90815
END:VEVENT
END:VCALENDAR
