BEGIN:VCALENDAR
PRODID:-//DPSS//Calendar//EN
CALSCALE:GREGORIAN
BEGIN:VEVENT
DTSTAMP:20260420T194511Z
DTSTART:20260311T143000
DTEND:20260311T170000
SUMMARY:Día de Recursos de Culver City
LOCATION:4427 Overland Avenue Culver City\, CA 90232
END:VEVENT
END:VCALENDAR
