BEGIN:VCALENDAR
PRODID:-//DPSS//Calendar//EN
CALSCALE:GREGORIAN
BEGIN:VEVENT
DTSTAMP:20260419T214839Z
DTSTART:20260311T090000
DTEND:20260311T120000
SUMMARY:Recursos del Centro de Salud Claude Hudson
LOCATION:2829 South Grand Avenue Los Angeles\, CA 90007
END:VEVENT
END:VCALENDAR
