BEGIN:VCALENDAR
PRODID:-//DPSS//Calendar//EN
CALSCALE:GREGORIAN
BEGIN:VEVENT
DTSTAMP:20260420T210637Z
DTSTART:20260312T110000
DTEND:20260312T150000
SUMMARY:Evento de divulgación de Cal Poly Pomona
LOCATION:3801 West Temple Avenue Pomona\, CA 91768
END:VEVENT
END:VCALENDAR
