BEGIN:VCALENDAR
PRODID:-//DPSS//Calendar//EN
CALSCALE:GREGORIAN
BEGIN:VEVENT
DTSTAMP:20260420T175246Z
DTSTART:20260214T110000
DTEND:20260214T140000
SUMMARY:Evento de recursos de TENA
LOCATION:8488 S. Vermont Avenue Los Angeles\, CA 90044
END:VEVENT
END:VCALENDAR
