BEGIN:VCALENDAR
PRODID:-//DPSS//Calendar//EN
CALSCALE:GREGORIAN
BEGIN:VEVENT
DTSTAMP:20260422T212146Z
DTSTART:20260215T110000
DTEND:20260215T150000
SUMMARY:Evento Food on Foot
LOCATION:1625 Schrader Blvd.\, Hollywood\, CA 90028
END:VEVENT
END:VCALENDAR
