BEGIN:VCALENDAR
PRODID:-//DPSS//Calendar//EN
CALSCALE:GREGORIAN
BEGIN:VEVENT
DTSTAMP:20260423T213315Z
DTSTART:20260129T133000
DTEND:20260129T150000
SUMMARY:Feria de salud para personas con discapacidad del Centro para Per
 sonas Mayores LGBT de Los Ángeles 
LOCATION:1118 N McCadden Place Los Angeles\, CA 90038
END:VEVENT
END:VCALENDAR
