BEGIN:VCALENDAR
PRODID:-//DPSS//Calendar//EN
CALSCALE:GREGORIAN
BEGIN:VEVENT
DTSTAMP:20260421T220945Z
DTSTART:20240515T130000
DTEND:20240515T163000
SUMMARY:PRIMAVERA HACI EL BEINESTAR: POMONA WELLNESS COMMUNITY GRAN REAPE
 RTURA
LOCATION:750 S. Park Ave. Pomona\, CA 91766
END:VEVENT
END:VCALENDAR
