BEGIN:VCALENDAR
PRODID:-//DPSS//Calendar//EN
CALSCALE:GREGORIAN
BEGIN:VEVENT
DTSTAMP:20260421T074652Z
DTSTART:20260425T080000
DTEND:20260425T120000
SUMMARY:Food Finders Community Marketplace
LOCATION:2125 Santa Fe Ave.\, Long Beach\, CA\, 90810
END:VEVENT
END:VCALENDAR
