BEGIN:VCALENDAR
PRODID:-//DPSS//Calendar//EN
CALSCALE:GREGORIAN
BEGIN:VEVENT
DTSTAMP:20260424T161443Z
DTSTART:20260315T110000
DTEND:20260315T150000
SUMMARY:Wat Thai of Los Angeles Food Market
LOCATION:8225 Coldwater Cyn Ave.\, N. Hollywood\, CA 91605
END:VEVENT
END:VCALENDAR
