BEGIN:VCALENDAR
PRODID:-//DPSS//Calendar//EN
CALSCALE:GREGORIAN
BEGIN:VEVENT
DTSTAMP:20260421T064001Z
DTSTART:20260315T110000
DTEND:20260315T153000
SUMMARY:Food on Foot Event 
LOCATION:1625 Schrader Blvd.\, Hollywood\, CA 90028
END:VEVENT
END:VCALENDAR
