BEGIN:VCALENDAR
PRODID:-//DPSS//Calendar//EN
CALSCALE:GREGORIAN
BEGIN:VEVENT
DTSTAMP:20260419T183113Z
DTSTART:20260311T143000
DTEND:20260311T170000
SUMMARY:Culver City Resource Day
LOCATION:4427 Overland Avenue Culver City\, CA 90232
END:VEVENT
END:VCALENDAR
