BEGIN:VCALENDAR
PRODID:-//DPSS//Calendar//EN
CALSCALE:GREGORIAN
BEGIN:VEVENT
DTSTAMP:20260420T124036Z
DTSTART:20260312T090000
DTEND:20260312T160000
SUMMARY:CSU Dominguez Hills CalFresh Partnership 
LOCATION:1000 East Victoria Street Carson\, CA 90747
END:VEVENT
END:VCALENDAR
