BEGIN:VCALENDAR
PRODID:-//DPSS//Calendar//EN
CALSCALE:GREGORIAN
BEGIN:VEVENT
DTSTAMP:20260420T072907Z
DTSTART:20260310T110000
DTEND:20260310T150000
SUMMARY:Cal Poly Pomona Outreach Event
LOCATION:3801 West Temple Avenue Pomona\, CA 91768
END:VEVENT
END:VCALENDAR
