BEGIN:VCALENDAR
PRODID:-//DPSS//Calendar//EN
CALSCALE:GREGORIAN
BEGIN:VEVENT
DTSTAMP:20260420T062420Z
DTSTART:20260129T133000
DTEND:20260129T150000
SUMMARY:Los Angeles LGBT Senior Center Disability Health Fair
LOCATION:1118 N McCadden Place Los Angeles\, CA 90038
END:VEVENT
END:VCALENDAR
