BEGIN:VCALENDAR
PRODID:-//DPSS//Calendar//EN
CALSCALE:GREGORIAN
BEGIN:VEVENT
DTSTAMP:20260420T124007Z
DTSTART:20260118T110000
DTEND:20260118T150000
SUMMARY:Food on Foot Homeless Event
LOCATION:1625 Schrader Blvd.\, Hollywood\, CA 90028
END:VEVENT
END:VCALENDAR
