BEGIN:VCALENDAR
PRODID:-//DPSS//Calendar//EN
CALSCALE:GREGORIAN
BEGIN:VEVENT
DTSTAMP:20260420T000708Z
DTSTART:20251203T090000
DTEND:20251203T130000
SUMMARY:Re-Enrollment and Support for Rio Hondo Mental Health Center
LOCATION:17707 S. Studebaker Road Cerritos\, CA 90703
END:VEVENT
END:VCALENDAR
