BEGIN:VCALENDAR
PRODID:-//DPSS//Calendar//EN
CALSCALE:GREGORIAN
BEGIN:VEVENT
DTSTAMP:20260422T054022Z
DTSTART:20251212T090000
DTEND:20251212T130000
SUMMARY:myPlace Health Food Bank & Health Fair
LOCATION:121 S Mountain View Ave.\, Los Angeles\, CA 90057
END:VEVENT
END:VCALENDAR
