BEGIN:VCALENDAR
PRODID:-//DPSS//Calendar//EN
CALSCALE:GREGORIAN
BEGIN:VEVENT
DTSTAMP:20260419T151426Z
DTSTART:20251203T100000
DTEND:20251203T140000
SUMMARY:Free Expungement\, Immigration\, & Job Events
LOCATION:16921 S. Western Avenue Suite 103 Gardena\, CA
END:VEVENT
END:VCALENDAR
