BEGIN:VCALENDAR
PRODID:-//DPSS//Calendar//EN
CALSCALE:GREGORIAN
BEGIN:VEVENT
DTSTAMP:20260423T005710Z
DTSTART:20251101T170000
DTEND:20251101T200000
SUMMARY:Bassett Park Dia De Los Muertos
LOCATION:510 N. Vineland Avenue La Puente\, CA 91746
END:VEVENT
END:VCALENDAR
