BEGIN:VCALENDAR
PRODID:-//DPSS//Calendar//EN
CALSCALE:GREGORIAN
BEGIN:VEVENT
DTSTAMP:20260420T073327Z
DTSTART:20240511T070000
DTEND:20240511T170000
SUMMARY:KJLH 102.3 FM Women's Health Forum
LOCATION:300 E Ocean Blvd\, Long Beach\, CA 90802
END:VEVENT
END:VCALENDAR
