BEGIN:VCALENDAR
PRODID:-//DPSS//Calendar//EN
CALSCALE:GREGORIAN
BEGIN:VEVENT
DTSTAMP:20260418T051457Z
DTSTART:20240517T090000
DTEND:20240517T110000
SUMMARY:Los Angeles General Medical Center Food Pantry
LOCATION:2010 Zonal Avenue Los Angeles\, CA 90033
END:VEVENT
END:VCALENDAR
