BEGIN:VCALENDAR
PRODID:-//DPSS//Calendar//EN
CALSCALE:GREGORIAN
BEGIN:VEVENT
DTSTAMP:20260422T144002Z
DTSTART:20240227T130000
DTEND:20240227T160000
SUMMARY:SPA 8 Regional Network Meeting
LOCATION:123 W. Manchester Blvd.\, Inglewood\, CA 90301
END:VEVENT
END:VCALENDAR
