BEGIN:VCALENDAR
PRODID:-//DPSS//Calendar//EN
CALSCALE:GREGORIAN
BEGIN:VEVENT
DTSTAMP:20260419T091701Z
DTSTART:20240123T160000
DTEND:20240123T190000
SUMMARY:SMALL BUSINESSES LEADERSHIP TRAINING FROM CALIFORNIA OFFICE OF TH
 E SMALL BUSINESS ADVOCATE (CalOSBA)
LOCATION:2600 South Hoover Street Los Angeles\, CA 90007
END:VEVENT
END:VCALENDAR
