BEGIN:VCALENDAR
PRODID:-//DPSS//Calendar//EN
CALSCALE:GREGORIAN
BEGIN:VEVENT
DTSTAMP:20260419T222321Z
DTSTART:20240106T120000
DTEND:20240106T150000
SUMMARY:READY FOR ANYTHING: SD3 EMERGENCY PREPAREDNESS FAIR
LOCATION:11200 Herrick Ave.\, Pacoima\, CA 91331
END:VEVENT
END:VCALENDAR
