BEGIN:VCALENDAR
PRODID:-//DPSS//Calendar//EN
CALSCALE:GREGORIAN
BEGIN:VEVENT
DTSTAMP:20260419T172004Z
DTSTART:20231211T130000
DTEND:20231211T143000
SUMMARY:HOPE FOR THE HOLIDAYS BEREAVEMENT SUPPORT GROUP
LOCATION:5315 Torrance Blvd.\, Suite B1 Torrance\, CA 90503
END:VEVENT
END:VCALENDAR
