BEGIN:VCALENDAR
PRODID:-//DPSS//Calendar//EN
CALSCALE:GREGORIAN
BEGIN:VEVENT
DTSTAMP:20260421T054402Z
DTSTART:20231117T120000
DTEND:20231117T130000
SUMMARY:CHILDNET YOUTH & FAMILY SERVICES PARENTING IN ACTION WORKSHOP SER
 IES
LOCATION:Virtual Event
END:VEVENT
END:VCALENDAR
